BEGIN:VCALENDAR
VERSION:2.0
PRODID:-//David B. Eavenson Chapter of PIAA Track and Field Officials - ECPv6.15.20//NONSGML v1.0//EN
CALSCALE:GREGORIAN
METHOD:PUBLISH
X-WR-CALNAME:David B. Eavenson Chapter of PIAA Track and Field Officials
X-ORIGINAL-URL:https://www.centralpenntrack.org
X-WR-CALDESC:Events for David B. Eavenson Chapter of PIAA Track and Field Officials
REFRESH-INTERVAL;VALUE=DURATION:PT1H
X-Robots-Tag:noindex
X-PUBLISHED-TTL:PT1H
BEGIN:VTIMEZONE
TZID:America/New_York
BEGIN:DAYLIGHT
TZOFFSETFROM:-0500
TZOFFSETTO:-0400
TZNAME:EDT
DTSTART:20250309T070000
END:DAYLIGHT
BEGIN:STANDARD
TZOFFSETFROM:-0400
TZOFFSETTO:-0500
TZNAME:EST
DTSTART:20251102T060000
END:STANDARD
BEGIN:DAYLIGHT
TZOFFSETFROM:-0500
TZOFFSETTO:-0400
TZNAME:EDT
DTSTART:20260308T070000
END:DAYLIGHT
BEGIN:STANDARD
TZOFFSETFROM:-0400
TZOFFSETTO:-0500
TZNAME:EST
DTSTART:20261101T060000
END:STANDARD
BEGIN:DAYLIGHT
TZOFFSETFROM:-0500
TZOFFSETTO:-0400
TZNAME:EDT
DTSTART:20270314T070000
END:DAYLIGHT
BEGIN:STANDARD
TZOFFSETFROM:-0400
TZOFFSETTO:-0500
TZNAME:EST
DTSTART:20271107T060000
END:STANDARD
END:VTIMEZONE
BEGIN:VEVENT
DTSTART;TZID=America/New_York:20260206T150000
DTEND;TZID=America/New_York:20260206T210000
DTSTAMP:20260424T102811
CREATED:20251230T150003Z
LAST-MODIFIED:20251230T150003Z
UID:1971-1770390000-1770411600@www.centralpenntrack.org
SUMMARY:Susquehanna U - Friday Night HS Showdown
DESCRIPTION:
URL:https://www.centralpenntrack.org/event/susquehanna-u-friday-night-hs-showdown/
CATEGORIES:Meet
END:VEVENT
BEGIN:VEVENT
DTSTART;VALUE=DATE:20260214
DTEND;VALUE=DATE:20260215
DTSTAMP:20260424T102811
CREATED:20251230T154115Z
LAST-MODIFIED:20251230T154115Z
UID:2000-1771027200-1771113599@www.centralpenntrack.org
SUMMARY:Susquehanna U. Valentine Invite
DESCRIPTION:
URL:https://www.centralpenntrack.org/event/susquehanna-u-valentine-invite/
LOCATION:Susquehanna University
CATEGORIES:Meet
END:VEVENT
BEGIN:VEVENT
DTSTART;TZID=America/New_York:20260223T190000
DTEND;TZID=America/New_York:20260223T203000
DTSTAMP:20260424T102811
CREATED:20251229T170329Z
LAST-MODIFIED:20251229T174524Z
UID:1917-1771873200-1771878600@www.centralpenntrack.org
SUMMARY:Interpretation Meeting
DESCRIPTION:
URL:https://www.centralpenntrack.org/event/interpretation-meeting/
LOCATION:Mountainview Middle School\, 30 Bali Hai Road\, Mechanicsburg\, PA\, 17050\, United States
CATEGORIES:Meeting
END:VEVENT
BEGIN:VEVENT
DTSTART;TZID=America/New_York:20260223T203000
DTEND;TZID=America/New_York:20260223T213000
DTSTAMP:20260424T102811
CREATED:20251229T174649Z
LAST-MODIFIED:20251229T174649Z
UID:1924-1771878600-1771882200@www.centralpenntrack.org
SUMMARY:First Chapter Meeting
DESCRIPTION:
URL:https://www.centralpenntrack.org/event/first-chapter-meeting/
LOCATION:Mountainview Middle School\, 30 Bali Hai Road\, Mechanicsburg\, PA\, 17050\, United States
CATEGORIES:Meeting
END:VEVENT
BEGIN:VEVENT
DTSTART;VALUE=DATE:20260227
DTEND;VALUE=DATE:20260302
DTSTAMP:20260424T102811
CREATED:20251230T150134Z
LAST-MODIFIED:20251230T150134Z
UID:1973-1772150400-1772409599@www.centralpenntrack.org
SUMMARY:Landmark Conference Championships
DESCRIPTION:
URL:https://www.centralpenntrack.org/event/landmark-conference-championships/
LOCATION:Susquehanna University
CATEGORIES:Meet
END:VEVENT
BEGIN:VEVENT
DTSTART;VALUE=DATE:20260228
DTEND;VALUE=DATE:20260302
DTSTAMP:20260424T102811
CREATED:20251230T150300Z
LAST-MODIFIED:20251230T150300Z
UID:1975-1772236800-1772409599@www.centralpenntrack.org
SUMMARY:PSAC Indoor Championships
DESCRIPTION:
URL:https://www.centralpenntrack.org/event/psac-indoor-championships/
LOCATION:Lehigh University
CATEGORIES:Meet
END:VEVENT
END:VCALENDAR